BEGIN:VCALENDAR
VERSION:2.0
PRODID:-//8ος Αγώνας Υγείας Αντιπάρου - Αντίπαρος Εν Πλω - ECPv6.15.20//NONSGML v1.0//EN
CALSCALE:GREGORIAN
METHOD:PUBLISH
X-WR-CALNAME:8ος Αγώνας Υγείας Αντιπάρου - Αντίπαρος Εν Πλω
X-ORIGINAL-URL:https://run.antiparosenplo.gr
X-WR-CALDESC:Events for 8ος Αγώνας Υγείας Αντιπάρου - Αντίπαρος Εν Πλω
REFRESH-INTERVAL;VALUE=DURATION:PT1H
X-Robots-Tag:noindex
X-PUBLISHED-TTL:PT1H
BEGIN:VTIMEZONE
TZID:UTC
BEGIN:STANDARD
TZOFFSETFROM:+0000
TZOFFSETTO:+0000
TZNAME:UTC
DTSTART:20250101T000000
END:STANDARD
END:VTIMEZONE
BEGIN:VEVENT
DTSTART;TZID=UTC:20260502T170000
DTEND;TZID=UTC:20260502T200000
DTSTAMP:20260420T171720
CREATED:20200504T181127Z
LAST-MODIFIED:20260327T114422Z
UID:1741-1777741200-1777752000@run.antiparosenplo.gr
SUMMARY:5\,5Km Πεζοπορική Διαδρομή
DESCRIPTION:Η Αντίπαρος σας περιμένει ξανά το Σάββατο 2 Μαΐου 2026 για μια ξεχωριστή δρομική γιορτή.  Περιπατητική μη αγωνιστική διαδρομή έχει μήκος 5\,5 χλμ. και απευθύνεται σε όσους αγαπούν το περπάτημα. Η διαδρομή είναι κυκλική. \nΑναλυτικές πληροφορίες Πεζοπορική Διαδρομής 5\,5Km\n\nΤόπος διεξαγωγής: Αντίπαρος\nΗμερομηνία: Σάββατο 02.05.2026\nΏρα εκκίνησης: 17:30\nΜέγιστη διάρκεια αγώνα: 1\,5 ώρες\nΤόπος εκκίνησης/τερματισμού: Λιμάνι Αντιπάρου\, Παλαιός Μώλος.\nΑπόσταση αγώνα: 5\,5 χλμ.\nΕπίπεδο διαδρομής: Εύκολη\n\nΚόστος συμμετοχής\n\nTo κόστος συμμετοχής για την περιπατητική μη αγωνιστική διαδρομή των 5\,5 χλμ. είναι 15 ευρώ και περιλαμβάνει:\nΤεχνικό μπλουζάκι (unisex)\nΑναμνηστικό μετάλλιο για όλους τους τερματίσαντες\nΗλεκτρονική χρονομέτρηση\nΈκπτωση 30% στα ακτοπλοϊκά εισιτήρια της Blue Star από και προς Πειραιά*.\n\nΣημείωση: Η έκπτωση ισχύει για 150 άτομα. Σε κρατήσεις θέσεων και σε έκδοση την ημέρα της αναχώρησης του πλοίου δεν θα είναι δυνατή η παροχή της έκπτωσης. Να σημειωθεί ότι τα χορηγικά εισιτήρια δεν γίνονται open και τυχόν ακυρώσεις ή αλλαγές εισιτηρίων πραγματοποιούνται μόνο πριν την προγραμματισμένη αναχώρηση\, βάσει της Εμπορικής Πολιτικής της Εταιρείας Blue Star και από Δευτέρα έως Παρασκευή 09.00 – 16.00. \n\nΗ έκπτωση αφορά και την μετάβαση από την Σύρο\, Νάξο προς Πάρο.\nΣτις Συχνές Ερωτήσεις είναι διαθέσιμη η λίστα των πρακτορείων για την έκδοση των εισιτηρίων\nΑναλυτικές πληροφορίες για την διαδικασία έκδοσης των ακτοπλοϊκών εισιτηρίων θα βρεις στην σελίδα: Διαδικασία παραλαβής ακτοπλοϊκών εισιτηρίων\n\nΑριθμός Συμμετοχών\nΓια την αρτιότερη διεξαγωγή και την ασφάλεια των συμμετεχόντων\, θα τηρηθεί αυστηρή σειρά προτεραιότητας. Το ανώτατο όριο συμμετοχών ορίζεται στους 250 δρομείς (συνολικά για τα τρία αγωνίσματα: 24\,4 χλμ. \, 10 χλμ. και 5 χλμ) και στους 80 περιπατητές στην διαδρομή 5.5 χλμ. Hiking. \nΗ εγγραφή θεωρείται έγκυρη μόνο με την ολοκλήρωση της κατάθεσης. \nΗ διαδρομή της πεζοπορίας 5\,5 χλμ.\nΗ διαδρομή ξεκινά από τον κεντρικό πλακόστρωτο δρόμο του Χωριού και περνώντας κάτω από το παραδοσιακό καταστέγι (ξύλινη κατασκευή που ενώνει δύο απέναντι κατοικίες στο επίπεδο του πρώτου ορόφου)\, η πορεία οδηγεί προς τον Σιφνέικο Γιαλό και συνεχίζει βόρεια\, διαγράφοντας μια τροχιά πάνω από το ακρωτήρι του Αγριόκαστρου. Καθώς το μονοπάτι στρέφεται ανατολικά\, ο περιπατητής έρχεται σε επαφή με ένα ιδιαίτερα ευαίσθητο οικοσύστημα που φιλοξενεί παράκτιες αμμοθίνες\, τα σπάνια κρινάκια της άμμου και τον εμβληματικό «Βασιλιά Κέδρο»\, ένα δέντρο ηλικίας εκατοντάδων ετών. Η παρουσία των πυκνών αυτών συστάδων συνδέεται άμεσα με την ιστορία του νησιού\, καθώς η αρχαία ονομασία της Αντιπάρου\, «Ωλίαρος»\, πιθανολογείται πως σημαίνει «δασώδης τόπος» στα Φοινικικά. \nΣταθμοί τροφοδοσίας:  Θα υπάρχει 1 σταθμός τροφοδοσίας \nΔηλώσεις συμμετοχής\nΟι δηλώσεις συμμετοχής για την πεζοπορική διαδρομή των 6 χλμ. γίνονται αποκλειστικά μέσω της φόρμας εγγραφής. Οι δηλώσεις συμμετοχής ξεκινούν στις 24 Φεβρουαρίου 2025 και θα παραμείνουν ανοιχτές έως και το Σάββατο 4 Απριλίου 2026. \nΕπισημαίνεται ότι η διαδικασία μπορεί να ολοκληρωθεί νωρίτερα\, εφόσον συμπληρωθεί το ανώτατο όριο των 250 δρομέων και 80 περιπατητών\, καθώς θα τηρηθεί αυστηρή σειρά προτεραιότητας με βάση την ολοκλήρωση της πληρωμής Για την ολοκλήρωση της διαδικασίας εγγραφής απαιτείται η κατάθεση του ποσού συμμετοχής. \n Κάνε την εγγραφή στην πεζοπορική διαδρομή των 5.5 χλμ. εδώ! \nΔιαδικασία ολοκλήρωσης εγγραφής:\n\nΣυμπλήρωση της ηλεκτρονικής φόρμας εγγραφής αγώνα\n\nMε την συμπλήρωση της φόρμας θα λάβετε αυτοματοποιημένο email με αναλυτικές πληροφορίες\nΗ εγγραφή παραμένει σε εκκρεμότητα\n\n\nΚατάθεση ποσού εγγραφής\n\nKατάθεση σε τραπεζικό λογαριασμό χρησιμοποιώντας το ονοματεπώνυμό εγγραφής με κεφαλαία στην αιτιολογία\nΣτοιχεία λογαριασμού:\n\nΔικαιούχος: ΑΝΤΙΠΑΡΟΣ ΕΝ ΠΛΩ\nΤράπεζα: Εθνική Τράπεζα\nIBAN: GR25 0110 4550 0000 4554 0141 970\nSWIFT/BIC: ETHNGRAA\n\n\n\n\nΑποστολή καταθετήριου\n\nΑποστολή του αποδεικτικού κατάθεσης στο antiparosenplo@gmail.com με θέμα: Εγγραφή – Αγώνισμα – Ονοματεπώνυμο εγγραφής.\nΓια παράδειγμα: Εγγραφή – 24km – Αργυράκης Γιώργος\n\n\nΟλοκλήρωση Εγγραφής: Mε την ολοκλήρωση εγγραφής θα λάβεις επιβεβαιωτικό email εντός 48 ωρών.
URL:https://run.antiparosenplo.gr/event/5-5km-hiking/
LOCATION:Αντίπαρος Χώρα\, Αντίπαρος\, 84007\, Greece
CATEGORIES:Kids,Αγωνίσματα
ATTACH;FMTTYPE=image/webp:https://run.antiparosenplo.gr/wp-content/uploads/2020/05/5-5km-hiking-Antiparos.webp
ORGANIZER;CN="%CE%91%CE%BD%CF%84%CE%AF%CF%80%CE%B1%CF%81%CE%BF%CF%82 %CE%95%CE%BD %CE%A0%CE%BB%CF%89":MAILTO:antiparosenplo@gmail.com
END:VEVENT
END:VCALENDAR