BEGIN:VCALENDAR
VERSION:2.0
PRODID:-//8ος Αγώνας Υγείας Αντιπάρου - Αντίπαρος Εν Πλω - ECPv6.15.20//NONSGML v1.0//EN
CALSCALE:GREGORIAN
METHOD:PUBLISH
X-WR-CALNAME:8ος Αγώνας Υγείας Αντιπάρου - Αντίπαρος Εν Πλω
X-ORIGINAL-URL:https://run.antiparosenplo.gr
X-WR-CALDESC:Events for 8ος Αγώνας Υγείας Αντιπάρου - Αντίπαρος Εν Πλω
REFRESH-INTERVAL;VALUE=DURATION:PT1H
X-Robots-Tag:noindex
X-PUBLISHED-TTL:PT1H
BEGIN:VTIMEZONE
TZID:UTC
BEGIN:STANDARD
TZOFFSETFROM:+0000
TZOFFSETTO:+0000
TZNAME:UTC
DTSTART:20250101T000000
END:STANDARD
END:VTIMEZONE
BEGIN:VEVENT
DTSTART;TZID=UTC:20260502T170000
DTEND;TZID=UTC:20260502T200000
DTSTAMP:20260420T140050
CREATED:20200428T133115Z
LAST-MODIFIED:20260327T114308Z
UID:1204-1777741200-1777752000@run.antiparosenplo.gr
SUMMARY:5Km Αντίπαρος Αγώνας Δρόμου
DESCRIPTION:Η Αντίπαρος σας περιμένει ξανά το Σάββατο 2 Μαΐου 2026 για μια ξεχωριστή δρομική γιορτή.  Ο αγώνας των 5 χλμ. είναι η μικρότερη διαδρομή της διοργάνωσης και απευθύνεται σε δρομείς που θέλουν να δοκιμάσουν τις δυνάμεις τους σε μια γρήγορη διαδρομή δίπλα στη θάλασσα. Η διαδρομή είναι κυκλική. \nΑναλυτικές πληροφορίες αγώνα 5 χλμ.\n\nΤόπος διεξαγωγής: Αντίπαρος\nΗμερομηνία: Σάββατο 02.05.2026\nΏρα εκκίνησης: 17:00\nΜέγιστη διάρκεια αγώνα: 2 ώρες\nΤόπος εκκίνησης/τερματισμού: Λιμάνι Αντιπάρου\, Παλαιός Μώλος.\nΑπόσταση αγώνα: 5 χλμ.\n\nΚόστος συμμετοχής\n\nTo κόστος συμμετοχής για το αγώνισμα των 5 χλμ. είναι 15 ευρώ και περιλαμβάνει:\nΤεχνικό μπλουζάκι (unisex)\nΑναμνηστικό μετάλλιο για όλους τους τερματίσαντες\nΗλεκτρονική χρονομέτρηση\nΈκπτωση 30% στα ακτοπλοϊκά εισιτήρια της Blue Star από και προς Πειραιά*.\n\nΣημείωση: Η έκπτωση ισχύει για 150 άτομα. Σε κρατήσεις θέσεων και σε έκδοση την ημέρα της αναχώρησης του πλοίου δεν θα είναι δυνατή η παροχή της έκπτωσης. Να σημειωθεί ότι τα χορηγικά εισιτήρια δεν γίνονται open και τυχόν ακυρώσεις ή αλλαγές εισιτηρίων πραγματοποιούνται μόνο πριν την προγραμματισμένη αναχώρηση\, βάσει της Εμπορικής Πολιτικής της Εταιρείας Blue Star και από Δευτέρα έως Παρασκευή 09.00 – 16.00. \n\nΗ έκπτωση αφορά και την μετάβαση από την Σύρο\, Νάξο προς Πάρο.\nΣτις Συχνές Ερωτήσεις είναι διαθέσιμη η λίστα των πρακτορείων για την έκδοση των εισιτηρίων\nΑναλυτικές πληροφορίες για την διαδικασία έκδοσης των ακτοπλοϊκών εισιτηρίων θα βρεις στην σελίδα: Διαδικασία παραλαβής ακτοπλοϊκών εισιτηρίων\n\nΑριθμός Συμμετοχών\nΓια την αρτιότερη διεξαγωγή και την ασφάλεια των συμμετεχόντων\, θα τηρηθεί αυστηρή σειρά προτεραιότητας. Το ανώτατο όριο συμμετοχών ορίζεται στους 250 δρομείς (συνολικά για τα τρία αγωνίσματα: 24\,4 χλμ\, 10 χλμ και 5 χλμ) και στους 80 περιπατητές στην διαδρομή 5\,5 Km Hiking. Η εγγραφή θεωρείται έγκυρη μόνο με την ολοκλήρωση της κατάθεσης. \nΗλικιακά όρια\nΓια την συμμετοχή στον Αγώνα Δρόμου 5χλμ οι συμμετέχοντες θα πρέπει να έχουν συμπληρώσει το 14ο έτος της ηλικίας τους και απαιτείται η έγγραφη συναίνεση\, ενός εκ των γονέων. \nΗ διαδρομή των 5 χλμ. (Χάρτης\, Βίντεο)\nΠρόκειται για μια όμορφη ασφάλτινη διαδρομή που ξεκινά από το λιμάνι και διασχίζει το χωριό\, συνεχίζει δίπλα στη θάλασσα ως τη Περιοχή Παναγιά όπου και επιστρέφει από τον ίδιο δρόμο Κατά μήκος της διαδρομής θα υπάρχουν σταθμοί ανεφοδιασμού ανά 2\,5 χλμ με το μέσο της διαδρομής να αποτελεί σημείο ελέγχου. \nΣταθμοί τροφοδοσίας:  \n\nστο 2\,5 χλμ.\n\nΧάρτες Διαδρομών Αγώνων 8ου Αγώνα Υγείας Αντιπάρου\nH διαδρομή σε timelapse video\nΣτο παρακάτω video μπορείτε να δείτε τμήμα της διαδρομής του αγώνα. Το video αποτυπώνει την πλήρη διαδρομή των 24\,4 χλμ. \n \nΔηλώσεις συμμετοχής στο αγώνισμα των 5 χλμ.\nΟι δηλώσεις συμμετοχής σε όλα τα αγωνίσματα του 8ου Αγώνα Υγεία Αντιπάρου γίνονται αποκλειστικά μέσω της φόρμας εγγραφής. Οι δηλώσεις συμμετοχής ξεκινούν στις 24 Φεβρουαρίου 2026 και θα παραμείνουν ανοιχτές έως και το Σάββατο 4 Απριλίου 2026. Επισημαίνεται ότι η διαδικασία μπορεί να ολοκληρωθεί νωρίτερα\, εφόσον συμπληρωθεί το ανώτατο όριο των 250 δρομέων και 80 περιπατητών\, καθώς θα τηρηθεί αυστηρή σειρά προτεραιότητας με βάση την ολοκλήρωση της πληρωμής Για την ολοκλήρωση της διαδικασίας εγγραφής απαιτείται η κατάθεση του ποσού συμμετοχής. \n Κάνε την εγγραφή στην διαδρομή των 10χλμ. εδώ! \nΔιαδικασία ολοκλήρωσης εγγραφής:\n\nΣυμπλήρωση της ηλεκτρονικής φόρμας εγγραφής αγώνα\n\nMε την συμπλήρωση της φόρμας θα λάβετε αυτοματοποιημένο email με αναλυτικές πληροφορίες\nΗ εγγραφή παραμένει σε εκκρεμότητα\n\n\nΚατάθεση ποσού εγγραφής\n\nKατάθεση σε τραπεζικό λογαριασμό χρησιμοποιώντας το ονοματεπώνυμό εγγραφής με κεφαλαία στην αιτιολογία\nΣτοιχεία λογαριασμού:\n\nΔικαιούχος: ΑΝΤΙΠΑΡΟΣ ΕΝ ΠΛΩ\nΤράπεζα: Εθνική Τράπεζα\nIBAN: GR25 0110 4550 0000 4554 0141 970\nSWIFT/BIC: ETHNGRAA\n\n\n\n\nΑποστολή καταθετήριου\n\nΑποστολή του αποδεικτικού κατάθεσης στο antiparosenplo@gmail.com με θέμα: Εγγραφή – Αγώνισμα – Ονοματεπώνυμο εγγραφής.\nΓια παράδειγμα: Εγγραφή – 24km – Αργυράκης Γιώργος\n\n\nΟλοκλήρωση Εγγραφής: Mε την ολοκλήρωση εγγραφής θα λάβεις επιβεβαιωτικό email εντός 48 ωρών.
URL:https://run.antiparosenplo.gr/event/5km-antiparos-road-race/
LOCATION:Αντίπαρος Χώρα\, Αντίπαρος\, 84007\, Greece
CATEGORIES:running,Αγωνίσματα
ATTACH;FMTTYPE=image/webp:https://run.antiparosenplo.gr/wp-content/uploads/2020/04/5k-Antiparos-Running-Race.webp
ORGANIZER;CN="%CE%91%CE%BD%CF%84%CE%AF%CF%80%CE%B1%CF%81%CE%BF%CF%82 %CE%95%CE%BD %CE%A0%CE%BB%CF%89":MAILTO:antiparosenplo@gmail.com
END:VEVENT
END:VCALENDAR